BEGIN:VCALENDAR
VERSION:2.0
PRODID:-//Library Market//iCal Export//EN
BEGIN:VEVENT
SUMMARY:Preschool Storytime - West
UID:23631
DTSTAMP:20260419T155800Z
DTSTART:20251113T150000Z
DTEND:20251113T153000Z
LOCATION:245 N Hunt Club Blvd, Longwood, FL 32779, United States
ROOM: West Branch Meeting Room
DESCRIPTION:
URL:https://seminolecounty.librarycalendar.com/event/preschool-storytime-w
 est-23631
END:VEVENT
END:VCALENDAR
